BEGIN:VCALENDAR
VERSION:2.0
PRODID:-//Squarespace Inc/Squarespace 6//v6//EN
BEGIN:VEVENT
UID:59afe73259cc68c08ce8d364@squarespace.com
DTSTAMP:20170906T121727Z
DTSTART:20170527T220000Z
DTEND:20170528T010000Z
SUMMARY:Game 3
END:VEVENT
END:VCALENDAR
