BEGIN:VCALENDAR
VERSION:2.0
PRODID:-//Squarespace Inc/Squarespace 6//v6//EN
BEGIN:VEVENT
UID:59afe768f7e0ab91b230a30a@squarespace.com
DTSTAMP:20170906T121819Z
DTSTART:20170624T220000Z
DTEND:20170626T010000Z
SUMMARY:Game 4
END:VEVENT
END:VCALENDAR
