BEGIN:VCALENDAR
VERSION:2.0
PRODID:-//Squarespace Inc/Squarespace 6//v6//EN
BEGIN:VEVENT
UID:5a9e406753450ababd032172@squarespace.com
DTSTAMP:20180429T105418Z
DTSTART:20180519T220000Z
DTEND:20180520T010000Z
SUMMARY:Game 2
GEO:-35.415982;149.063448
LOCATION:Sothern Cross Stadium\, 7 Pitman Street\, Greenway\, ACT\, 2900\, 
 Australia
END:VEVENT
END:VCALENDAR
